BEGIN:VCALENDAR
PRODID:-//eluceo/ical//2.0/EN
VERSION:2.0
CALSCALE:GREGORIAN
BEGIN:VEVENT
UID:a2f430f060cd10847ab65b54bcebb3c3
DTSTAMP:20260422T231206Z
SUMMARY:10AM Temple Brotherhood Breakfast
DESCRIPTION:Jewish Federation & Foundation of Northeast Florida\nCommunity 
 agencies\, synagogues\, schools\nhttps://jewishjacksonville.org/jewish-com
 munity-information/10Temple Brotherhood Breakfastam-temple-brotherhood-bre
 akfast\n\nTemple Brotherhood welcomes guest speaker Peter Bragan\, Jr.\, P
 resident of the Jacksonville Suns. Enjoy \nbagels\, cream cheese\, lox\, 
 eggs and much more! $7 at the door. \n\n 
DTSTART;TZID=America/New_York:20140302T100000
DTEND;TZID=America/New_York:20140302T140000
END:VEVENT
END:VCALENDAR
